View In:
ArcGIS JavaScript
ArcGIS Online map viewer
Google Earth
ArcMap
ArcGIS Explorer
View Footprint In:
ArcGIS Online map viewer
Service Description: La Carta Tecnica Comunale, denominata C.T.C., costituisce la cartografia di base dei Piani urbanistici.
La CTR rappresenta aspetti dovuti a trasformazioni del territorio di tipo antropico: insediamenti, strade, ferrovie, canali, colture agricole; limiti amministrativi; toponomastica; una serie di contenuti fisiografici quali il reticolo idrografico, i laghi, i rilievi e la vegetazione.
Map Name: Carta Tecnica 1979
Legend
All Layers and Tables
Dynamic Legend
Dynamic All Layers
Layers:
Description:
Copyright Text: Globo srl
Spatial Reference:
102100
(3857)
Single Fused Map Cache: true
Tile Info:
- Height: 256
- Width: 256
- DPI: 96
-
Levels of Detail: 20
-
Level ID: 1
[ Start Tile, End Tile ]
- Resolution: 78271.5169639999
- Scale: 2.95828763795777E8
-
Level ID: 2
[ Start Tile, End Tile ]
- Resolution: 39135.7584820001
- Scale: 1.47914381897889E8
-
Level ID: 3
[ Start Tile, End Tile ]
- Resolution: 19567.8792409999
- Scale: 7.3957190948944E7
-
Level ID: 4
[ Start Tile, End Tile ]
- Resolution: 9783.93962049996
- Scale: 3.6978595474472E7
-
Level ID: 5
[ Start Tile, End Tile ]
- Resolution: 4891.96981024998
- Scale: 1.8489297737236E7
- Format: PNG
- Compression Quality: 0.0
- Origin:
X: -2.0037508342787E7
Y: 2.0037508342787E7
- Spatial Reference:
102100
(3857)
Initial Extent:
XMin: 1613666.8552906967
YMin: 4972931.891419048
XMax: 1628918.1638133724
YMax: 4978454.850481697
Spatial Reference:
102100
Full Extent:
XMin: 1611952.1861709906
YMin: 4969115.915480566
XMax: 1630653.0223654609
YMax: 4979527.796856697
Spatial Reference:
102100
Units: esriMeters
Supported Image Format Types: PNG32,PNG24,PNG,JPG,DIB,TIFF,EMF,PS,PDF,GIF,SVG,SVGZ,BMP
Document Info:
Title: base 1979
Author:
Comments: base 1979
Subject: base 1979
Category:
Keywords: Edilizia,Geoportale,Carta Tecnica Regionale,Urbanistica e pianificazione,Territorio
AntialiasingMode: None
TextAntialiasingMode: Force
Supports Dynamic Layers: true
MaxRecordCount: 1000
MaxImageHeight: 4096
MaxImageWidth: 4096
Supported Query Formats: JSON, AMF, geoJSON
Min Scale: 1155581.108577
Max Scale: 1128.497176
Supports Datum Transformation: true
Child Resources:
Info
Dynamic Layer
Supported Operations:
Export Map
Identify
QueryDomains
Find
Return Updates