View In:
ArcGIS JavaScript
ArcGIS Online map viewer
Google Earth
ArcMap
ArcGIS Explorer
View Footprint In:
ArcGIS Online map viewer
Service Description: Sulla base dello studio delle componenti paesaggistiche, dell’individuazione delle zone di tutela e delle criticità idrogeologiche, lo studio paesaggistico suddivide il territorio in diverse classi: sensibilità molto alta, alta, media, bassa e molto bassa. Tale classificazione è finalizzata all’ottimale inserimento di quei progetti di trasformazione che saranno oggetto di autorizzazione paesaggistica, e di cui sarà valutata l'incidenza sull'ambiente circostante.
Map Name: Tavola DdP 5 B - Sensibilità paesaggistica
Legend
All Layers and Tables
Dynamic Legend
Dynamic All Layers
Layers:
Description:
Copyright Text:
Spatial Reference:
102100
(3857)
Single Fused Map Cache: true
Tile Info:
- Height: 256
- Width: 256
- DPI: 96
-
Levels of Detail: 20
-
Level ID: 0
[ Start Tile, End Tile ]
- Resolution: 156543.03392800014
- Scale: 5.91657527591555E8
-
Level ID: 1
[ Start Tile, End Tile ]
- Resolution: 78271.51696399994
- Scale: 2.95828763795777E8
-
Level ID: 2
[ Start Tile, End Tile ]
- Resolution: 39135.75848200009
- Scale: 1.47914381897889E8
-
Level ID: 3
[ Start Tile, End Tile ]
- Resolution: 19567.87924099992
- Scale: 7.3957190948944E7
-
Level ID: 4
[ Start Tile, End Tile ]
- Resolution: 9783.93962049996
- Scale: 3.6978595474472E7
-
Level ID: 5
[ Start Tile, End Tile ]
- Resolution: 4891.96981024998
- Scale: 1.8489297737236E7
- Format: PNG
- Compression Quality: 0.0
- Origin:
X: -2.0037508342787E7
Y: 2.0037508342787E7
- Spatial Reference:
102100
(3857)
Initial Extent:
XMin: 1001780.9687591239
YMin: 5706633.301038339
XMax: 1018121.3197053229
YMax: 5713740.398123858
Spatial Reference:
102100
Full Extent:
XMin: 1001780.9687591237
YMin: 5704817.706488761
XMax: 1018121.3197053227
YMax: 5711924.803574279
Spatial Reference:
102100
Units: esriMeters
Supported Image Format Types: PNG32,PNG24,PNG,JPG,DIB,TIFF,EMF,PS,PDF,GIF,SVG,SVGZ,BMP
Document Info:
Title: Tavola DdP 5 B - Sensibilità paesaggistica
Author: Globo Srl
Comments: Tavola DdP 5 B - Sensibilità paesaggistica
Subject: Tavola DdP 5 B - Sensibilità paesaggistica
Category:
Keywords: territorio,sensibilità,pgt
AntialiasingMode: None
TextAntialiasingMode: Force
Supports Dynamic Layers: true
MaxRecordCount: 1000
MaxImageHeight: 4096
MaxImageWidth: 4096
Supported Query Formats: JSON, AMF, geoJSON
Min Scale: 9244648.868618
Max Scale: 1128.497176
Supports Datum Transformation: true
Child Resources:
Info
Dynamic Layer
Supported Operations:
Export Map
Identify
QueryDomains
Find
Return Updates