View In:
ArcGIS JavaScript
ArcGIS Online map viewer
Google Earth
ArcMap
ArcGIS Explorer
View Footprint In:
ArcGIS Online map viewer
Service Description: Con il termine frana si intende il movimento di una massa di roccia, terra o detrito lungo un versante. I fattori che possono causare il distaccamento di materiale roccioso, con conseguente scivolamento a valle, sono molteplici, complessi e correlati fra loro. L’azione dell’uomo sull’ambiente, la distribuzione annuale delle precipitazioni d’acqua, le caratteristiche climatiche, il disboscamento e gli incendi sono tutti fattori primari che contribuiscono all’instabilità dei versanti e alla vulnerabilità del territorio. A rischio principalmente i territori alpini ed appenninici ma anche quelli costieri.
Map Name: Carta degli scenari di rischio
Legend
All Layers and Tables
Dynamic Legend
Dynamic All Layers
Layers:
Description:
Copyright Text: Globo srl
Spatial Reference:
102100
(3857)
Single Fused Map Cache: true
Tile Info:
- Height: 256
- Width: 256
- DPI: 96
-
Levels of Detail: 20
-
Level ID: 1
[ Start Tile, End Tile ]
- Resolution: 78271.5169639999
- Scale: 2.95828763795777E8
-
Level ID: 2
[ Start Tile, End Tile ]
- Resolution: 39135.7584820001
- Scale: 1.47914381897889E8
-
Level ID: 3
[ Start Tile, End Tile ]
- Resolution: 19567.8792409999
- Scale: 7.3957190948944E7
-
Level ID: 4
[ Start Tile, End Tile ]
- Resolution: 9783.93962049996
- Scale: 3.6978595474472E7
-
Level ID: 5
[ Start Tile, End Tile ]
- Resolution: 4891.96981024998
- Scale: 1.8489297737236E7
- Format: PNG
- Compression Quality: 0.0
- Origin:
X: -2.0037508342787E7
Y: 2.0037508342787E7
- Spatial Reference:
102100
(3857)
Initial Extent:
XMin: 1661215.9837058792
YMin: 5032866.196888968
XMax: 1703483.2557404232
YMax: 5053404.519215614
Spatial Reference:
102100
Full Extent:
XMin: 1661215.9837058792
YMin: 5022812.0101139285
XMax: 1703483.2557404232
YMax: 5053404.519215614
Spatial Reference:
102100
Units: esriMeters
Supported Image Format Types: PNG32,PNG24,PNG,JPG,DIB,TIFF,EMF,PS,PDF,GIF,SVG,SVGZ,BMP
Document Info:
Title: Carta degli scenari di rischio
Author: Globo srl
Comments: Carta degli scenari di rischio
Subject: Carta degli scenari di rischio
Category:
Keywords: Ambiente,Frane,Geoportale,Urbanistica e pianificazione,Pericolosità,Rischio,Territorio.
AntialiasingMode: None
TextAntialiasingMode: Force
Supports Dynamic Layers: true
MaxRecordCount: 1000
MaxImageHeight: 4096
MaxImageWidth: 4096
Supported Query Formats: JSON, AMF, geoJSON
Min Scale: 9244648.868618
Max Scale: 1128.497176
Supports Datum Transformation: true
Child Resources:
Info
Dynamic Layer
Supported Operations:
Export Map
Identify
QueryDomains
Find
Return Updates