View In:
ArcGIS JavaScript
ArcGIS Online map viewer
Google Earth
ArcMap
ArcGIS Explorer
View Footprint In:
ArcGIS Online map viewer
Service Description: Il Data Base Topografico ai sensi della Legge regionale 11 marzo 2005, n. 12Per disporre degli elementi conoscitivi necessari alle scelte di pianificazione e gestione del territorio, Regione Lombardia ha scelto di realizzare una base geografica di riferimento condivisa tra regione ed enti locali.Le basi cartografiche sono state prodotte utilizzando specifiche tecniche omogenee, definite a livello regionale, in conformità a quelle definite dall'Intesa Stato, regioni, enti locali sul sistema cartografico di riferimento (IntesaGIS), in materia di basi geografiche di interesse generale e dal Comitato tecnico nazionale per il coordinamento informatico dei dati territoriali. Questi prodotti costituiscono lo strumento fondamentale per organizzare e gestire i dati territoriali all'interno dei sistemi informativi degli enti locali. Una base cartografica così organizzata risulta, infatti, fondamentale per le attività di pianificazione urbanistica ed infrastrutturale, per la conoscenza dell'assetto territoriale, la gestione del patrimonio immobiliare, la gestione della fiscalità, la valorizzazione e il censimento dei beni culturali e ambientali, nonchè l'efficiente gestione dei servizi alle persone.
Il Data Base Topografico ai sensi della Legge regionale 11 marzo 2005, n. 12 ha le seguenti finalità:favorire la produzione di un'aggiornata cartografia tecnica digitale, nel formato di Data Base Topografico, da parte degli enti locali, da utilizzare come base geografica di riferimento all'interno dei sistemi informativi territoriali;promuovere la realizzazione diffusa di cartografia tecnica in formato digitale, tecnologicamente aggiornata, utilizzabile dai diversi soggetti che partecipano al SIT integrato in un contesto di ottimizzazione delle risorse;creare le condizioni per un progressivo aggiornamento della Carta Tecnica Regionale alla scala 1:10.000, prodotta ai sensi della Legge Regionale 4 giugno 1979, n. 29, che costituisce la base di riferimento per i dati di interesse regionale del SIT integrato.
Map Name: DBTR
Legend
All Layers and Tables
Dynamic Legend
Dynamic All Layers
Layers:
Description:
Copyright Text:
Spatial Reference:
102100
(3857)
Single Fused Map Cache: true
Tile Info:
- Height: 256
- Width: 256
- DPI: 96
-
Levels of Detail: 24
-
Level ID: 1
[ Start Tile, End Tile ]
- Resolution: 78271.5169639999
- Scale: 2.95828763795777E8
-
Level ID: 2
[ Start Tile, End Tile ]
- Resolution: 39135.7584820001
- Scale: 1.47914381897889E8
-
Level ID: 3
[ Start Tile, End Tile ]
- Resolution: 19567.8792409999
- Scale: 7.3957190948944E7
-
Level ID: 4
[ Start Tile, End Tile ]
- Resolution: 9783.93962049996
- Scale: 3.6978595474472E7
-
Level ID: 5
[ Start Tile, End Tile ]
- Resolution: 4891.96981024998
- Scale: 1.8489297737236E7
- Format: PNG
- Compression Quality: 0.0
- Origin:
X: -2.0037508342787E7
Y: 2.0037508342787E7
- Spatial Reference:
102100
(3857)
Initial Extent:
XMin: 1077215.5078288862
YMin: 5731816.913542838
XMax: 1085556.2098721531
YMax: 5734806.452316507
Spatial Reference:
102100
Full Extent:
XMin: 1077703.7740494139
YMin: 5730127.6574328095
XMax: 1085067.943651626
YMax: 5734806.452316508
Spatial Reference:
102100
Units: esriMeters
Supported Image Format Types: PNG32,PNG24,PNG,JPG,DIB,TIFF,EMF,PS,PDF,GIF,SVG,SVGZ,BMP
Document Info:
Title: DBTR
Author: Maggioli spa
Comments: DBTR
Subject: DBTR
Category:
Keywords: Edilizia,Lavori pubblici e mobilità urbana,Geoportale,Urbanistica e pianificazione
AntialiasingMode: None
TextAntialiasingMode: Force
Supports Dynamic Layers: true
MaxRecordCount: 1000
MaxImageHeight: 4096
MaxImageWidth: 4096
Supported Query Formats: JSON, AMF, geoJSON
Min Scale: 5.91657527591555E8
Max Scale: 564.248588
Supports Datum Transformation: true
Child Resources:
Info
Dynamic Layer
Supported Operations:
Export Map
Identify
QueryDomains
Find
Return Updates