View In:
ArcGIS JavaScript
ArcGIS Online map viewer
Google Earth
ArcMap
ArcGIS Explorer
View Footprint In:
ArcGIS Online map viewer
Service Description: All'interno della tavola sono stati rappresentati gli elementi che compongono la rete tecnologica delle acque nere, ovvero i pozzetti e i condotti di carattere lineare.
Con il termine "acque nere" si intendono:
- acque originate da scarichi industriali;
- acque bionde, che provengono dalle toilette, dalle docce, dal bidet, dalla vasca da bagnoe dai lavandini;
- acque fecali dei sanitari dei bagni;
- acque a condensa grassa e con sapone, quelle provenienti dalla cucina domestica o professionale dei ristoranti, con grassi, unti, olio della preparazione del ciboodetersivi di varia natura.
Map Name: Reti tecnologiche - Acque nere
Legend
All Layers and Tables
Dynamic Legend
Dynamic All Layers
Layers:
Description:
Copyright Text:
Spatial Reference:
102100
(3857)
Single Fused Map Cache: true
Tile Info:
- Height: 256
- Width: 256
- DPI: 96
-
Levels of Detail: 24
-
Level ID: 1
[ Start Tile, End Tile ]
- Resolution: 78271.5169639999
- Scale: 2.95828763795777E8
-
Level ID: 2
[ Start Tile, End Tile ]
- Resolution: 39135.7584820001
- Scale: 1.47914381897889E8
-
Level ID: 3
[ Start Tile, End Tile ]
- Resolution: 19567.8792409999
- Scale: 7.3957190948944E7
-
Level ID: 4
[ Start Tile, End Tile ]
- Resolution: 9783.93962049996
- Scale: 3.6978595474472E7
-
Level ID: 5
[ Start Tile, End Tile ]
- Resolution: 4891.96981024998
- Scale: 1.8489297737236E7
- Format: PNG
- Compression Quality: 0.0
- Origin:
X: -2.0037508342787E7
Y: 2.0037508342787E7
- Spatial Reference:
102100
(3857)
Initial Extent:
XMin: 980457.1074131307
YMin: 4854970.196612681
XMax: 1014307.5927555502
YMax: 4866899.4339170875
Spatial Reference:
102100
Full Extent:
XMin: 982661.1379976675
YMin: 4848771.071586116
XMax: 1012103.5621710132
YMax: 4866899.433917087
Spatial Reference:
102100
Units: esriMeters
Supported Image Format Types: PNG32,PNG24,PNG,JPG,DIB,TIFF,EMF,PS,PDF,GIF,SVG,SVGZ,BMP
Document Info:
Title:
Author:
Comments:
Subject:
Category:
Keywords: Reti tecnologiche,Acque nere,Territorio
AntialiasingMode: None
TextAntialiasingMode: Force
Supports Dynamic Layers: true
MaxRecordCount: 1000
MaxImageHeight: 4096
MaxImageWidth: 4096
Supported Query Formats: JSON, AMF, geoJSON
Min Scale: 5.91657527591555E8
Max Scale: 564.248588
Supports Datum Transformation: true
Child Resources:
Info
Dynamic Layer
Supported Operations:
Export Map
Identify
QueryDomains
Find
Return Updates