View In:
ArcGIS JavaScript
ArcGIS Online map viewer
Google Earth
ArcMap
ArcGIS Explorer
View Footprint In:
ArcGIS Online map viewer
Service Description: La tavola delle previsioni di piano costituisce parte integrante del Documento di piano previsto nei Piani di governo del territorio. Contiene una sintesi informativa dei contenuti conoscitivi e previsionali degli strumenti di pianificazione comunale.
In questa tavola vengono rappresentate le strategie complessive previste dal pianificatore per il comunein termini di sviluppo urbanistico, miglioramento dei servizi, ampliamento ed riassetto delle infrastrutture esistenti, nonché di valorizzazione ambientale, paesaggistica e storica.
Map Name: Strategie di piano
Legend
All Layers and Tables
Dynamic Legend
Dynamic All Layers
Layers:
Description:
Copyright Text:
Spatial Reference:
102100
(3857)
Single Fused Map Cache: true
Tile Info:
- Height: 256
- Width: 256
- DPI: 96
-
Levels of Detail: 20
-
Level ID: 1
[ Start Tile, End Tile ]
- Resolution: 78271.5169639999
- Scale: 2.95828763795777E8
-
Level ID: 2
[ Start Tile, End Tile ]
- Resolution: 39135.7584820001
- Scale: 1.47914381897889E8
-
Level ID: 3
[ Start Tile, End Tile ]
- Resolution: 19567.8792409999
- Scale: 7.3957190948944E7
-
Level ID: 4
[ Start Tile, End Tile ]
- Resolution: 9783.93962049996
- Scale: 3.6978595474472E7
-
Level ID: 5
[ Start Tile, End Tile ]
- Resolution: 4891.96981024998
- Scale: 1.8489297737236E7
- Format: PNG
- Compression Quality: 0.0
- Origin:
X: -2.0037508342787E7
Y: 2.0037508342787E7
- Spatial Reference:
102100
(3857)
Initial Extent:
XMin: 1003543.4456795788
YMin: 5686493.08986581
XMax: 1012798.5891898657
YMax: 5691422.287224204
Spatial Reference:
102100
(3857)
Full Extent:
XMin: 1003543.4456795788
YMin: 5684080.0850398
XMax: 1012798.5891898657
YMax: 5691422.287224205
Spatial Reference:
102100
(3857)
Units: esriMeters
Supported Image Format Types: PNG32,PNG24,PNG,JPG,DIB,TIFF,EMF,PS,PDF,GIF,SVG,SVGZ,BMP
Document Info:
Title: Strategie di piano
Author: Globo srl
Comments: Trezzano sul Naviglio
Subject: Trezzano sul Naviglio
Category:
Keywords: Geoportale,Territorio,Previsioni di piano,Urbanistica e pianificazione
AntialiasingMode: None
TextAntialiasingMode: Force
Supports Dynamic Layers: true
MaxRecordCount: 1000
MaxImageHeight: 4096
MaxImageWidth: 4096
Supported Query Formats: JSON, AMF, geoJSON
Min Scale: 1.8489297737236E7
Max Scale: 1128.497176
Supports Datum Transformation: true
Child Resources:
Info
Dynamic Layer
Supported Operations:
Export Map
Identify
QueryDomains
Find
Return Updates